BEGIN:VCALENDAR
VERSION:2.0
PRODID:-//Massage Therapy - LMT, CEIM, CPMT - Paula Maybee - ECPv6.0.3//NONSGML v1.0//EN
CALSCALE:GREGORIAN
METHOD:PUBLISH
X-WR-CALNAME:Massage Therapy - LMT, CEIM, CPMT - Paula Maybee
X-ORIGINAL-URL:https://paulamaybee.com
X-WR-CALDESC:Events for Massage Therapy - LMT, CEIM, CPMT - Paula Maybee
REFRESH-INTERVAL;VALUE=DURATION:PT1H
X-Robots-Tag:noindex
X-PUBLISHED-TTL:PT1H
BEGIN:VTIMEZONE
TZID:UTC
BEGIN:STANDARD
TZOFFSETFROM:+0000
TZOFFSETTO:+0000
TZNAME:UTC
DTSTART:20180101T000000
END:STANDARD
END:VTIMEZONE
BEGIN:VEVENT
DTSTART;TZID=UTC:20180531T130000
DTEND;TZID=UTC:20180531T140000
DTSTAMP:20260425T085356
CREATED:20180428T080212Z
LAST-MODIFIED:20180428T080212Z
UID:2089-1527771600-1527775200@paulamaybee.com
SUMMARY:Infant Massage Class #4 May 31\,2018
DESCRIPTION:Massaging your infant is a gentle\, loving way to connect with your child while helping smooth their transition into the world beyond the womb. The benefits of incorporating massage into your baby’s regular routine are immense — ranging from improved digestion to deeper sleep\, relieved stress to increased awareness and physical development. Further\, infant massage helps parents better understand their child’s non-verbal communication which helps build mutual trust and deeper understanding\, fostering an even stronger\, more intimate and confident bond between you both. I look forward to meeting you and your child.   http://paulamaybee.com\, http://almamidwifery.com/education-movement-space/   http://www.liddlekidz.com/
URL:https://paulamaybee.com/class/infant-massage-class-4-may-312018/
LOCATION:Alma Education & Movement Space\, 1233 SE Stark St.\, Portland\, OR\, 97214\, United States
CATEGORIES:Class Schedule,Infants,Series
ATTACH;FMTTYPE=image/jpeg:https://paulamaybee.com/wp-content/uploads/2016/08/Infant-Hand-Massage.jpg
ORGANIZER;CN="Paula%20Maybee%20LMT%2CCEIM%2CCPMT":MAILTO:paulamaybeelmt@gmail.com
END:VEVENT
END:VCALENDAR